BEGIN:VCALENDAR
PRODID:NingEventWidget-v1
VERSION:2.0
METHOD:PUBLISH
BEGIN:VTIMEZONE
TZID:Australia/Sydney
X-LIC-LOCATION:Australia/Sydney
BEGIN:STANDARD
TZOFFSETFROM:+1100
TZOFFSETTO:+1000
TZNAME:EST
DTSTART:19700405T030000
RRULE:FREQ=YEARLY;BYMONTH=4;BYDAY=1SU
END:STANDARD
BEGIN:DAYLIGHT
TZOFFSETFROM:+1000
TZOFFSETTO:+1100
TZNAME:EST
DTSTART:19701004T020000
RRULE:FREQ=YEARLY;BYMONTH=10;BYDAY=1SU
END:DAYLIGHT
END:VTIMEZONE
BEGIN:VEVENT
UID:2144162:Event:1103279
DTSTAMP:20260422T002259Z
SUMMARY:April Slalom Races
DESCRIPTION:Hybrid, tight and novice slalom events. In a park setting,
  so bring your picnic gear.\n\nFor more information visit http://www.s
 kateboardracing.org.au/events/april-slalom-races
DTSTART;TZID=Australia/Sydney:20240414T110000
DTEND;TZID=Australia/Sydney:20240414T150000
CATEGORIES:slalom, racing
LOCATION:Fawkner Park
WEBSITE:https://www.google.com/maps/place/Fawkner+Park/@-37.8415379,14
 4.9795664,17z/data=!3m1!4b1!4m6!3m5!1s0x6ad6681f3e9cb7e1:0x9d52778f56c
 ab5a8!8m2!3d-37.8415379!4d144.9821413!16zL20vMDhka2Qy?entry=ttu
URL:https://www.google.com/maps/place/Fawkner+Park/@-37.8415379,144.97
 95664,17z/data=!3m1!4b1!4m6!3m5!1s0x6ad6681f3e9cb7e1:0x9d52778f56cab5a
 8!8m2!3d-37.8415379!4d144.9821413!16zL20vMDhka2Qy?entry=ttu
CONTACT:0427581494
ORGANIZER;CN="Daniel Monaghan":http://www.skateboardracing.org.au/prof
 ile/DanielMonaghan
ATTACH;FMTTYPE="image/jpeg":https://storage.ning.com/topology/rest/1.0
 /file/get/12400830284?profile=original
ATTENDEE;ROLE=REQ-PARTICIPANT;PARTSTAT=ACCEPTED;RSVP=TRUE;CN="Daniel M
 onaghan":http://www.skateboardracing.org.au/profile/DanielMonaghan
END:VEVENT
END:VCALENDAR
